BEGIN:VCALENDAR
VERSION:2.0
PRODID:-//Visit Bagnell Dam - ECPv6.7.1//NONSGML v1.0//EN
CALSCALE:GREGORIAN
METHOD:PUBLISH
X-WR-CALNAME:Visit Bagnell Dam
X-ORIGINAL-URL:https://visitbagnelldam.com
X-WR-CALDESC:Events for Visit Bagnell Dam
REFRESH-INTERVAL;VALUE=DURATION:PT1H
X-Robots-Tag:noindex
X-PUBLISHED-TTL:PT1H
BEGIN:VTIMEZONE
TZID:UTC
BEGIN:STANDARD
TZOFFSETFROM:+0000
TZOFFSETTO:+0000
TZNAME:UTC
DTSTART:20190101T000000
END:STANDARD
END:VTIMEZONE
BEGIN:VEVENT
DTSTART;TZID=UTC:20191005T080000
DTEND;TZID=UTC:20191006T170000
DTSTAMP:20260424T072450
CREATED:20190305T181937Z
LAST-MODIFIED:20190305T182123Z
UID:1731-1570262400-1570381200@visitbagnelldam.com
SUMMARY:Fall Big Bass Bash
DESCRIPTION:Big Bass Event for Amateur Anglers with 5 weigh in locations across The Lake.. IT COULD BE YOUR CHANCE TO CATCH THE BASS OF A LIFETIME! \nThe Big Bass Bash is a bass tournament designed for amateurs only. Its unique format allows the weekend angler a chance to win big money like the professionals. Unlike most fishing tournaments which have a team arrangement where prizes are based on total weight\, the Big Bass Bash format is distinctive in that it only takes one fisherman just one big bass to win. \nAnglers can launch from anywhere on Lake of the Ozarks. The Big Bass Bash will have four weigh-in stations to accommodate the anglers: PB2 (Grand Glaize State Park)\, Red Oak Resort\, Alhonna Resort\, & Point Randall Resort \nOct 05\, 2019 – Oct 06\, 2019\nLake Wide\nLake Ozark MO 65049\nPhone: 314-703-8462\n\nEmail: info@midwestfishtournaments.com\nWebsite: http://www.bigbassbash.com\nFacebook: https://www.facebook.com/anglersinaction
URL:https://visitbagnelldam.com/event/fall-big-bass-bash-2/
ATTACH;FMTTYPE=image/jpeg:https://visitbagnelldam.com/wp-content/uploads/2018/10/Big-Bass-Bash-Logo.jpg
END:VEVENT
BEGIN:VEVENT
DTSTART;TZID=UTC:20191012T090000
DTEND;TZID=UTC:20191012T190000
DTSTAMP:20260424T072450
CREATED:20190624T165221Z
LAST-MODIFIED:20190624T165221Z
UID:1773-1570870800-1570906800@visitbagnelldam.com
SUMMARY:34th Annual Fall Harbor Hop
DESCRIPTION:Anyone can enter for a fun day on Lake of the Ozarks! Visit over 40 of our participating locations on the water to collect your poker hand. Enter the Harbor hop by stopping at any of the check points. To obtain a hand\, sign up and pay an optional $20 donation. Any player can enter more than once. The 1st card is drawn at the checkpoint where the hand is purchased; 6 additional cards are obtained by hopping to six more checkpoints drawing one card\, per hand\, at each location. The hand is complete when the 7th card is drawn. To quailify the hand must be turned in by 7pm at your last checkpoint. Winners will be notified by certified mail. \nA few Harbor Hop checkpoints open as early as 9:00 am\, but most open at 11:00 am. Check the website listed below for a complete list of participating locations and scheduled times. \nhttps://www.funlake.com/harborhop
URL:https://visitbagnelldam.com/event/34th-annual-fall-harbor-hop/
ATTACH;FMTTYPE=image/jpeg:https://visitbagnelldam.com/wp-content/uploads/2019/03/Harbor-Hop-Main-Logo.jpg
END:VEVENT
END:VCALENDAR