BEGIN:VCALENDAR
VERSION:2.0
PRODID:-//Visit Bagnell Dam - ECPv6.7.1//NONSGML v1.0//EN
CALSCALE:GREGORIAN
METHOD:PUBLISH
X-ORIGINAL-URL:https://visitbagnelldam.com
X-WR-CALDESC:Events for Visit Bagnell Dam
REFRESH-INTERVAL;VALUE=DURATION:PT1H
X-Robots-Tag:noindex
X-PUBLISHED-TTL:PT1H
BEGIN:VTIMEZONE
TZID:UTC
BEGIN:STANDARD
TZOFFSETFROM:+0000
TZOFFSETTO:+0000
TZNAME:UTC
DTSTART:20190101T000000
END:STANDARD
END:VTIMEZONE
BEGIN:VEVENT
DTSTART;TZID=UTC:20190803T100000
DTEND;TZID=UTC:20190803T130000
DTSTAMP:20260423T221315
CREATED:20190722T175530Z
LAST-MODIFIED:20190722T175530Z
UID:1811-1564826400-1564837200@visitbagnelldam.com
SUMMARY:The Great Bagnell Dam Duck Drop
DESCRIPTION:The Great Bagnell Dam Duck Drop\nAug 03\, 2019\nBelow Bagnell Dam\nBelow Bagnell Dam\nBelow Bagnell Dam\nLake Ozark MO 65049\nPhone: 573-280-5866\nRegion: \n\nN\n\n\n\nGET DIRECTIONS \n\nWebsite: http://www.greatdamduckdrop.com\nHours of Operation: 10 am – 1 pm; Duck Drop at Noon\n10:00 AM Saturday\nBring the kids (ALL AGES) down to the Lake Ozark Campground & RV Park below the dam for a family fun zone with games\, dunking booth\, bounce houses\, martial arts and dance demonstrations\, food\, and lots of prizes and goodies! \nFUN ZONE WRIST BANDS are FREE and include all Fun Zone events\, games\, and prizes. \nPurchase Duck Drop tickets at the Fun Zone until 11:00AM for $5 each for your chance to win $5000 (plus 10 other GREAT prizes!) \n11:45 AM Saturday\nHead from the Fun Zone over to the campground area river access to watch the ducks drop from the helicopter and boats into the Osage River. \nNOON Saturday\nThe helicopter will arrive and the ducks will fly! Let the race begin!!! The first 11 ducks to cross the finish line will win prizes\, including a $5000 cash prize and a $1000 cash prize! \n12:30 – 1:00 Saturday\nHead back to the Fun Zone and enjoy more games while we await the winners! Winners will be announced at the Fun Zone by 1:00. You do not need to be present to win!
URL:https://visitbagnelldam.com/event/the-great-bagnell-dam-duck-drop/
ATTACH;FMTTYPE=image/jpeg:https://visitbagnelldam.com/wp-content/uploads/2019/07/duckdrop.jpg
END:VEVENT
BEGIN:VEVENT
DTSTART;TZID=UTC:20190809T180000
DTEND;TZID=UTC:20190809T230000
DTSTAMP:20260423T221315
CREATED:20190306T215853Z
LAST-MODIFIED:20190306T215853Z
UID:1741-1565373600-1565391600@visitbagnelldam.com
SUMMARY:Hot Summer Nights - Since '69
DESCRIPTION:Hot Summer Nights – Since ’69 \nHot Summer Nights\, a classic vehicle cruise and family night on the Bagnell Dam Strip in Lake Ozark. 6:00 – 11:00 pm (rain or shine). Free admission and participation. All makes and models of cars\, trucks\, and motorcycles will line the Strip and cruise around. This kid friendly event offers games\, activities\, live entertainment and more.
URL:https://visitbagnelldam.com/event/hot-summer-nights-since-69/
LOCATION:Bagnell Dam Strip\, 1395 Bagnell Dam Blvd\, Lake Ozark\, MO\, 65049\, United States
ATTACH;FMTTYPE=image/jpeg:https://visitbagnelldam.com/wp-content/uploads/2019/03/hot-summer-nights-profile-pic.jpg
END:VEVENT
BEGIN:VEVENT
DTSTART;TZID=UTC:20190815T173000
DTEND;TZID=UTC:20190815T210000
DTSTAMP:20260423T221315
CREATED:20190701T162320Z
LAST-MODIFIED:20190701T162613Z
UID:1797-1565890200-1565902800@visitbagnelldam.com
SUMMARY:Bike Night on the Bagnell Dam Strip
DESCRIPTION:Come see us at Bike Nights on the Bagnell Dam Strip! \nEvery 3rd Thursday of the month come down to the Bagnell Dam Strip for Bike Night!
URL:https://visitbagnelldam.com/event/bike-night-on-the-bagnell-dam-strip-2/
LOCATION:Bagnell Dam Strip\, 1395 Bagnell Dam Blvd\, Lake Ozark\, MO\, 65049\, United States
END:VEVENT
BEGIN:VEVENT
DTSTART;VALUE=DATE:20190817
DTEND;VALUE=DATE:20190818
DTSTAMP:20260423T221315
CREATED:20190722T180008Z
LAST-MODIFIED:20190722T180008Z
UID:1814-1566000000-1566086399@visitbagnelldam.com
SUMMARY:Phat Fest for Wonderland Camp at Shady Gators
DESCRIPTION:Phat Fest for Wonderland Camp at Shady Gators\nAug 17\, 2019\nShady Gators\nShady Gators\n132 Sweet William Rd\nLake Ozark MO 65049\nPhone: 417-664-0830\nRegion: \n\nN\n\n\n\nGET DIRECTIONS \n\nEmail: mike@wonderlandcamp.org\nWebsite: http://www.shadygators.com\nAnnual all day jam session at Shady Gators hosted by Phat Mike and the Bartenders. Bands from all over the Midwest come to perform during this day long event at Shady Gators. It all culminates with an all star finale with Phat Mike and his band. A live and silent auction and t-shirts sales will benefit Wonderland Camp.
URL:https://visitbagnelldam.com/event/phat-fest-for-wonderland-camp-at-shady-gators/
ATTACH;FMTTYPE=image/jpeg:https://visitbagnelldam.com/wp-content/uploads/2019/07/ShadyGatorsDining_logo.jpg
END:VEVENT
BEGIN:VEVENT
DTSTART;TZID=UTC:20190821T170000
DTEND;TZID=UTC:20190821T220000
DTSTAMP:20260423T221315
CREATED:20190624T170303Z
LAST-MODIFIED:20190624T172122Z
UID:1775-1566406800-1566424800@visitbagnelldam.com
SUMMARY:Shootout On The Strip Street Party
DESCRIPTION:The “Shootout on the Strip” is a fun\, family event where over 5\,000 people come to see your boat up close and personal on the Historic Bagnell Dam Strip! Feel free to bring along photos or pictures of your boat to autograph for the kids!
URL:https://visitbagnelldam.com/event/shootout-on-the-strip-street-party/
LOCATION:Bagnell Dam Strip\, 1395 Bagnell Dam Blvd\, Lake Ozark\, MO\, 65049\, United States
ATTACH;FMTTYPE=image/jpeg:https://visitbagnelldam.com/wp-content/uploads/2019/06/Shootoutonthestrip.jpg
END:VEVENT
BEGIN:VEVENT
DTSTART;TZID=UTC:20190823T073000
DTEND;TZID=UTC:20190823T183000
DTSTAMP:20260423T221315
CREATED:20190722T181049Z
LAST-MODIFIED:20190722T181049Z
UID:1822-1566545400-1566585000@visitbagnelldam.com
SUMMARY:Shootout PolyLift & LakeExpo Poker Run
DESCRIPTION:Shootout PolyLift & LakeExpo Poker Run\nAug 23\, 2019\nMultiple Waterfront Venues\n32697 Green Hills Rd\nGravois Mills Missouri 65037\n\nGET DIRECTIONS \n\nWebsite: https://lakeoftheozarksshootout.org/events/poly-lift-poker-run/\nHours of Operation: 7:30 am – 6:00 pm\nPre-registration at Performance Boat Center\, Thursday 8/22\, 4:00pm – 9:00 pm. \nPoker Run starts 8:00 am Friday 8/23\, Big Thunder Marine; Poker Run Dinner and Awards Presentations at Shady Gators. See website above for details. \nPoker Run Stops:\nStart: Breakfast Big Thunder\nParadise\nRedhead’s Lakeside Grill\nLarry’s on the Lake\nNautifish Rum Bar\nCaptain Ron’s\nBulldog’s\nBig Dick’s Halfway Inn\nLast Stop & Awards Ceremony: Shady Gators (6:00 pm)
URL:https://visitbagnelldam.com/event/shootout-polylift-lakeexpo-poker-run/
ATTACH;FMTTYPE=image/png:https://visitbagnelldam.com/wp-content/uploads/2019/07/Shootout-Logo-2019-31st-Anniversary-300x250.png
END:VEVENT
END:VCALENDAR