BEGIN:VCALENDAR
VERSION:2.0
PRODID:-//Visit Bagnell Dam - ECPv6.7.1//NONSGML v1.0//EN
CALSCALE:GREGORIAN
METHOD:PUBLISH
X-WR-CALNAME:Visit Bagnell Dam
X-ORIGINAL-URL:https://visitbagnelldam.com
X-WR-CALDESC:Events for Visit Bagnell Dam
REFRESH-INTERVAL;VALUE=DURATION:PT1H
X-Robots-Tag:noindex
X-PUBLISHED-TTL:PT1H
BEGIN:VTIMEZONE
TZID:UTC
BEGIN:STANDARD
TZOFFSETFROM:+0000
TZOFFSETTO:+0000
TZNAME:UTC
DTSTART:20190101T000000
END:STANDARD
END:VTIMEZONE
BEGIN:VEVENT
DTSTART;TZID=UTC:20190704T080000
DTEND;TZID=UTC:20190706T170000
DTSTAMP:20260423T220928
CREATED:20190624T173512Z
LAST-MODIFIED:20190624T173512Z
UID:1778-1562227200-1562432400@visitbagnelldam.com
SUMMARY:4th of July Fireworks Displays & Celebrations
DESCRIPTION:Click or Tap Names of Venues Below for more information! \nThe Inn at Grand Glaize\nDate: Thursday\, July 4th\nTime: Display begins at dusk.\nLocation: 5142 Osage Beach Pkwy in Osage Beach\nView by Water at the 1MM of the Grand Glaize Arm\nEnjoy the view from the Inn at Grand Glaize at the boat dock or the tiki bar\, outdoor pool area\, or from the outdoor lounge!\nCall for details: 573-348-4731 \nBear Bottom Resort\nDate: Thursday\, July 4th and Saturday\, July 6th\nTime: 9:45 pm Each Night\nLocation: 123 Bear Bottom Drive in Sunrise Beach\nView by Water at the 38MM\, Osage Arm\nParking is limited; Arrive early.\nCall for details: 573-374-6905 \nCity of Eldon 4th of July Celebration\nDate: Thursday\, July 4th\nFirecracker 5K Run/Walk begins at 7:30 am at the Eldon Public Safety Building\n4th of July Parade begins at 11:00 am; Downtown Eldon\nHalf-Price Swim at Eldon Aquatic Center; 12:00 pm – 4:00 pm\nFree Family Kick Ball Tournament at Eldon Air Park Soccer Field; 1:00 pm – 5:00 pm\nFood Truck Village at Eldon Air Park; 4:00 pm – 11:00 pm\nCraft Vendors\, Face Painting and more at Eldon Air Park; 4:00 pm – 8:00 pm\nConcert In The Park Featuring Pure Drive; 7:00 pm – 9:00 pm\nFireworks Display begins at Dusk at Eldon Air Park\nCall for Details: 573-392-2291 \nPoint Randall Resort\nDate: Thursday\, July 4th\nTime: 9:15 pm – 10:00 pm\nLocation: 1584 Susan Road in Lake Ozark\nViewing by land on the Point Randall Resort property reserved for resort guests only.\nView by water at the 2MM (McCoy Branch Cove)\nCall for details: 573-365-2081 \nPlayin’ Hooky Fireworks Cruise\nDate: Thursday\, July 4th\nTime: 8:30 pm to 10:00 pm\nLocation: Departing from Millstone Marina at 18096 Hwy O in Gravois Mills\n$25 per person\nCall for reservations and details: 573-434-2627 \nThe Lodge of Four Seasons\nDate: Thursday\, July 4th\nTime: Display begins at Dusk\nLocation: 315 Four Seasons Drive in Lake Ozark\nView by water at the 13 Mile Marker\nCall for details: 573-365-3000 \nCelebration Cruises at the Grand Glaize Bridge\nDate: Thursday\, July 4th\nTime: Boarding: 7:00 pm; Departure: 7:30 pm; Return: 9:30 pm\nLocation: 5085 Davis Dr in Osage Beach\nSeating is limited; Book reservations early.\nCall for details: 573-480-3212 \nMargaritaville Lake Resort\nDate: Thursday\, July 4th\nTime: 9:00 pm – 10:00 pm\nLocation: 494 Tan Tar A Drive in Osage Beach\nViewing by land on the Margaritaville property reserved for resort guests only.\nView by water at the 26 Mile Marker\nCall for details: 573-348-3131 \nTropic Island Cruises\nDate: Thursday\, July 4th\nTime: 7:30 pm to 9:30 pm\nLocation: Margaritaville Lake Resort; 494 Tan Tar A Drive in Osage Beach\nView the Margaritaville fireworks display from the water at the 26 Mile Marker\, aboard the Tropic Island Cruises yacht.\nSeating is limited; Book reservations early: 573-348-0083 \nLake Valley Country Club\nDate: Thursday\, July 4th\nTime: Fireworks display begins at dusk.\nLocation: Lake Valley Country Club; 367 Blair Ave in Camdenton\nCall for more info: 573-346-7218 \nOld Kinderhook Fireworks Fun Fest\nDate: Friday\, July 5th\nTime: 5:00 pm; Fireworks Display begins at dusk.\nLocation: 20 Eagle Ridge Rd. in Camdenton\nFun Fest with Fireworks Show\, Entertainment and Kids Activities.\nParking is limited; Arrive early.\nCall for details: 573-317-3560 \nCaptain Ron’s Bar & Grill\nDate: Friday\, July 5th\nTime: Dusk\nLocation: 82 Aloha Lane in Sunrise Beach\nView by water at the 34.5 MM\nParking is limited; Arrive early.\nCall for details: 573-374-5852 \nCity of Linn Creek\nDate: Saturday\, July 6th\nTime: Display begins at dusk.\nLocation: Linn Creek Soccer Fields; 200-236 Lake Rd 54-69 in Linn Creek\nBring a blanket and/or chairs and sit beneath the stars for the fun!\nCall for details: 573-346-6200
URL:https://visitbagnelldam.com/event/4th-of-july-fireworks-displays-celebrations/
ATTACH;FMTTYPE=image/jpeg:https://visitbagnelldam.com/wp-content/uploads/2018/04/bagnell-dam-fireworks.jpg
END:VEVENT
BEGIN:VEVENT
DTSTART;TZID=UTC:20190706T180000
DTEND;TZID=UTC:20190706T180000
DTSTAMP:20260423T220928
CREATED:20190701T155414Z
LAST-MODIFIED:20190701T155414Z
UID:1788-1562436000-1562436000@visitbagnelldam.com
SUMMARY:Nitty Gritty Dirt Band & Ozark Mountain Daredevils
DESCRIPTION:Nitty Gritty Dirt Band & Ozark Mountain Daredevils with special guest The Comancheros – The first 5 rows (Sections 101-105\, Rows A-E) are Reserved + and also include Pit access – Reserve Seated Event . \nJul 06\, 2019\nOzarks Amphitheater\nOzarks Amphitheater\n2629 N Business Route 5\nCamdenton MO 65020\nPhone: 573-346-0000
URL:https://visitbagnelldam.com/event/nitty-gritty-dirt-band-ozark-mountain-daredevils/
ATTACH;FMTTYPE=image/jpeg:https://visitbagnelldam.com/wp-content/uploads/2019/07/ozarkamp.jpg
END:VEVENT
BEGIN:VEVENT
DTSTART;TZID=UTC:20190712T180000
DTEND;TZID=UTC:20190712T230000
DTSTAMP:20260423T220928
CREATED:20190306T215753Z
LAST-MODIFIED:20190306T215753Z
UID:1739-1562954400-1562972400@visitbagnelldam.com
SUMMARY:Hot Summer Nights - 50 Years of "HOT WHEELS" & Hot Cars
DESCRIPTION:Hot Summer Nights – 50 Years of “HOT WHEELS” & Hot Cars \nHot Summer Nights\, a classic vehicle cruise and family night on the Bagnell Dam Strip in Lake Ozark. 6:00 – 11:00 pm (rain or shine). Free admission and participation. All makes and models of cars\, trucks\, and motorcycles will line the Strip and cruise around. This kid friendly event offers games\, activities\, live entertainment and more.
URL:https://visitbagnelldam.com/event/hot-summer-nights-50-years-of-hot-wheels-hot-cars/
LOCATION:Bagnell Dam Strip\, 1395 Bagnell Dam Blvd\, Lake Ozark\, MO\, 65049\, United States
END:VEVENT
BEGIN:VEVENT
DTSTART;TZID=UTC:20190716T183000
DTEND;TZID=UTC:20190716T183000
DTSTAMP:20260423T220928
CREATED:20190701T155649Z
LAST-MODIFIED:20190701T155649Z
UID:1791-1563301800-1563301800@visitbagnelldam.com
SUMMARY:Five Finger Death Punch\, Live in Concert
DESCRIPTION:Five Finger Death Punch with special guests In This Moment and more tba! \nThe first 5 rows (Sections 101-105\, Rows A-E) are Reserved + and also include Pit access – Reserve Seated Event. \nJul 16\, 2019\nOzarks Amphitheater\n2629 N Business Route 5\nCamdenton MO 65020\nPhone: 573-346-0000
URL:https://visitbagnelldam.com/event/five-finger-death-punch-live-in-concert/
ATTACH;FMTTYPE=image/jpeg:https://visitbagnelldam.com/wp-content/uploads/2019/07/ffdp.jpg
END:VEVENT
BEGIN:VEVENT
DTSTART;TZID=UTC:20190718T173000
DTEND;TZID=UTC:20190718T210000
DTSTAMP:20260423T220928
CREATED:20190701T162226Z
LAST-MODIFIED:20190701T162226Z
UID:1794-1563471000-1563483600@visitbagnelldam.com
SUMMARY:Bike Night on the Bagnell Dam Strip
DESCRIPTION:Come see us at Bike Nights on the Bagnell Dam Strip! \nEvery 3rd Thursday of the month come down to the Bagnell Dam Strip for Bike Night!
URL:https://visitbagnelldam.com/event/bike-night-on-the-bagnell-dam-strip/
LOCATION:Bagnell Dam Strip\, 1395 Bagnell Dam Blvd\, Lake Ozark\, MO\, 65049\, United States
ATTACH;FMTTYPE=image/gif:https://visitbagnelldam.com/wp-content/uploads/2019/07/bikenightheader.gif
END:VEVENT
BEGIN:VEVENT
DTSTART;TZID=UTC:20190720T120000
DTEND;TZID=UTC:20190720T170000
DTSTAMP:20260423T220928
CREATED:20190624T163801Z
LAST-MODIFIED:20190624T164307Z
UID:1771-1563624000-1563642000@visitbagnelldam.com
SUMMARY:Aquapalooza 2019
DESCRIPTION:The Lake’s Largest FAMILY Boating event will be held July 20th. The Lake of the Ozarks Marine Dealers invites ALL BOATERS to join them for a great day on the water. Live music and activities will keep you having fun all day long. On the Water Party at Dog Days Restaurant at the 19mm\, just west of the Grand Glaize Bridge. \n2019 Artist Line-Up:\nDirt Road Addiction\nMachine Gun Symphony\nChris Weaver Band\nSuper Jam \nAquapalooza is a Benne Media Production. \n  \nJul 20\, 2019\nDog Days Bar & Grill\n1232 Jeffries Rd.\nOsage Beach MO 65065\nPhone: 573-348-195
URL:https://visitbagnelldam.com/event/aquapalooza-2019/
ATTACH;FMTTYPE=image/jpeg:https://visitbagnelldam.com/wp-content/uploads/2018/06/AquaPalooza.jpg
END:VEVENT
BEGIN:VEVENT
DTSTART;TZID=UTC:20190724T080000
DTEND;TZID=UTC:20190724T080000
DTSTAMP:20260423T220928
CREATED:20190722T165944Z
LAST-MODIFIED:20190722T165944Z
UID:1802-1563955200-1563955200@visitbagnelldam.com
SUMMARY:YMCA Annual Three Rivers Run
DESCRIPTION:Feeling adventurous? Explore the rivers of Missouri on your own personal water craft for a good cause. This full day exploration starts at Bagnell Dam of Lake of the Ozarks and roams on the Osage River\, Missouri River and finishing off on the mighty Mississippi River at none other than Missouri’s most famous landmark- The Saint Louis Arch. All money raised will go to the Tri-County YMCA of the Ozarks. \nThe pre-run party is scheduled for Tuesday\, July 23rd\, 6:00 pm at Dog Days\, which will include buffet and silent auction. \nAll fuel\, oil and lunch will be provided. You will be responsible for the transportation of your personal watercraft (PWC) to the launch area prior to starting the run as well as at the conclusion in St. Louis at the Arch. \nThe entry fee per rider is $750 and raffle tickets can be sold for $20 each to assist in paying the fee. An additional $100 fee will be charged for a 2nd rider on a single PWC. You can get your raffle tickets today at the YMCA. \nFor more info visit our website at www.lakeymca.org or call us at 573-348-9230. \n  \nJul 24\, 2019\nBagnell Dam to the St. Louis Arch\nBagnell Dam to the St. Louis Arch\n3080 Bagnell Dam Blvd.\nLake Ozark Missouri 65049\nPhone: 573-348-9230
URL:https://visitbagnelldam.com/event/ymca-annual-three-rivers-run/
LOCATION:Bagnell Dam Strip\, 1395 Bagnell Dam Blvd\, Lake Ozark\, MO\, 65049\, United States
ATTACH;FMTTYPE=image/jpeg:https://visitbagnelldam.com/wp-content/uploads/2019/07/3riversrun2019.jpg
END:VEVENT
BEGIN:VEVENT
DTSTART;TZID=UTC:20190726T080000
DTEND;TZID=UTC:20190727T170000
DTSTAMP:20260423T220928
CREATED:20190627T203114Z
LAST-MODIFIED:20190627T203114Z
UID:1785-1564128000-1564246800@visitbagnelldam.com
SUMMARY:Surf The Dams 2019
DESCRIPTION:Grab your boat\, boards\, cooler\, and crew! It is the Surf The Dams Event you don’t want to miss. \nSurf the Dams June 20 -21. Join MarineMax Wake for two unforgettable days on the water as we surf 93 miles from Bagnell Dam to Truman Dam. Grab your crew\, your gear and your cooler and surf with us the entire way or just part of the way. MarineMax will host a half way party on Thursday night and a party Friday afternoon at the finish line in Warsaw. Prizes will be awarded to the first four boats that cross the finish line\, for the rider with the most miles\, and for the best social media post. Along the way there will be opportunities to ride behind the new 2019 Nautique G23 and demo new boards from Liquid Force and Phase 5. \nCome surf the biggest\, baddest wake event at Lake of the Ozarks! Call 573-365-5382 for more details. Register online today.
URL:https://visitbagnelldam.com/event/surf-the-dams-2019/
LOCATION:Bagnell Dam Strip\, 1395 Bagnell Dam Blvd\, Lake Ozark\, MO\, 65049\, United States
ATTACH;FMTTYPE=image/jpeg:https://visitbagnelldam.com/wp-content/uploads/2019/06/surfthedams.jpg
END:VEVENT
BEGIN:VEVENT
DTSTART;TZID=UTC:20190726T200000
DTEND;TZID=UTC:20190726T235900
DTSTAMP:20260423T220928
CREATED:20190417T155204Z
LAST-MODIFIED:20190417T155239Z
UID:1762-1564171200-1564185540@visitbagnelldam.com
SUMMARY:Trace Adkins with Special Guest Exile LIVE
DESCRIPTION:Trace Adkins with Special Guest Exile LIVE\nJul 26\, 2019\nShawnee Bluff Vineyard\n8 Tolwood Rd\nEldon MO 65026\nPhone: 573-365-1100\n\nGET DIRECTIONS \n\nEmail: info@shawneebluffwinery.com\nWebsite: https://shawneebluffwinery.com/event/trace-adkins-with-special-guest-exile-on-stage-at-the-vineyard-july-26th-2019/\nHours of Operation: 7:00 pm\n\nTowering baritone Trace Adkins has sold more than 11 million albums and charted more than 20 singles in his 25 years in Nashville\, a remarkable run for one of country music’s most easily identifiable stars. The Louisiana native recently released his 12th studio album\, Something’s Going On\, on BBR Music Group / Wheelhouse Records. A three-time GRAMMY Award nominee\, Adkins has won three Academy of Country Music Awards\, including the 2009 Single of the Year Award for “You’re Gonna Miss This” and Vocal Event of the Year with Blake Shelton for “Hillbilly Bone” in 2010. \nAmong rock listeners\, Exile is remembered as the one-hit wonder responsible for 1978’s number one smash “Kiss You All Over”. However\, in the early ’80s\, the Kentucky-bred band reinvented itself as a country outfit — and a hugely successful one at that. Exile is celebrating their 40th Anniversary of “Kiss You All Over”. \n• Doors open at 5pm. • Music on the Patio at 5pm – TBA • Food Vendors – TBA • Exile takes the stage at 7pm. • Trace Adkins on stage at 8pm. • EPIC Fireworks after the show by Brilliant Skies. • Parking is $5 and 50% goes to the local L.A.M.B. (Lake Area Mission Builders) Charity. • This is an outdoor event. Rain or Shine. Tickets are Non-Refundable. \n\nBACK
URL:https://visitbagnelldam.com/event/trace-adkins-with-special-guest-exile-live/
ATTACH;FMTTYPE=image/jpeg:https://visitbagnelldam.com/wp-content/uploads/2019/04/traceadkins.jpg
END:VEVENT
END:VCALENDAR