BEGIN:VCALENDAR
VERSION:2.0
PRODID:-//Visit Bagnell Dam - ECPv6.7.1//NONSGML v1.0//EN
CALSCALE:GREGORIAN
METHOD:PUBLISH
X-WR-CALNAME:Visit Bagnell Dam
X-ORIGINAL-URL:https://visitbagnelldam.com
X-WR-CALDESC:Events for Visit Bagnell Dam
REFRESH-INTERVAL;VALUE=DURATION:PT1H
X-Robots-Tag:noindex
X-PUBLISHED-TTL:PT1H
BEGIN:VTIMEZONE
TZID:UTC
BEGIN:STANDARD
TZOFFSETFROM:+0000
TZOFFSETTO:+0000
TZNAME:UTC
DTSTART:20260101T000000
END:STANDARD
END:VTIMEZONE
BEGIN:VEVENT
DTSTART;TZID=UTC:20260422T063957
DTEND;TZID=UTC:20260422T063957
DTSTAMP:20260422T063957
CREATED:20180425T195039Z
LAST-MODIFIED:20180425T195039Z
UID:1613-1776839997-1776839997@visitbagnelldam.com
SUMMARY:Fireworks Cruise
DESCRIPTION:FIREWORKS CRUISE: JULY 28\, 2018\nCelebration Cruises will be lighting  up the night sky over the Bagnell Dam\, throughout the summer!! Book your night with us\, and enjoy a 2 1/2 hour cruise\, and an amazing firework display! \nBoard 7:00 PM\nDepart 7:30 PM\nReturn 10:00 PM \nEnjoy a gourmet turkey sandwich snack box for only $10.00. Full service bar and snacks available for purchase.
URL:https://visitbagnelldam.com/event/fireworks-cruise-13/
LOCATION:MO
ATTACH;FMTTYPE=image/jpeg:https://visitbagnelldam.com/wp-content/uploads/2018/04/bagnell-dam-fireworks.jpg
END:VEVENT
END:VCALENDAR