BEGIN:VCALENDAR
VERSION:2.0
PRODID:-//Visit Bagnell Dam - ECPv6.7.1//NONSGML v1.0//EN
CALSCALE:GREGORIAN
METHOD:PUBLISH
X-ORIGINAL-URL:https://visitbagnelldam.com
X-WR-CALDESC:Events for Visit Bagnell Dam
REFRESH-INTERVAL;VALUE=DURATION:PT1H
X-Robots-Tag:noindex
X-PUBLISHED-TTL:PT1H
BEGIN:VTIMEZONE
TZID:UTC
BEGIN:STANDARD
TZOFFSETFROM:+0000
TZOFFSETTO:+0000
TZNAME:UTC
DTSTART:20240101T000000
END:STANDARD
END:VTIMEZONE
BEGIN:VEVENT
DTSTART;TZID=UTC:20240316T130000
DTEND;TZID=UTC:20240316T150000
DTSTAMP:20260421T060754
CREATED:20240109T181351Z
LAST-MODIFIED:20240109T181351Z
UID:2040-1710594000-1710601200@visitbagnelldam.com
SUMMARY:Lake of the Ozarks St. Patrick's Day Parade
DESCRIPTION:St. Patrick’s Day is just around corner and what better way to spend the day than a parade! Benne Media will again host the Annual Lake of the Ozarks St. Patrick’s Day Parade. The event will take place on March 16th. 2024 at 1:00 pm on the historic Bagnell Dam Strip at Lake of the Ozarks Missouri.\n\n\nDeck the whole family out in green\, grab the lawn chairs and head out to Bagnell Dam Strip for an afternoon of family fun watching the various floats\, cars\, motorcycles and yes even boats as they make trip along the Strip. And who knows you might even score some candy!\n\n\nDo you or your group/organization have a boat\, float\, car\, truck\, motorcycle\, etc. that you would like to enter in the Lake of the Ozarks St. Patrick’s Day Parade? You can download the official entry form and return it to Benne Media at 160 Highway 42\, Kaiser\, MO. 65047 no later than March 8\, 2024. For more information you call 573-348-1958.
URL:https://visitbagnelldam.com/event/lake-of-the-ozarks-st-patricks-day-parade-2/
LOCATION:Bagnell Dam Strip\, 1395 Bagnell Dam Blvd\, Lake Ozark\, MO\, 65049\, United States
ATTACH;FMTTYPE=image/png:https://visitbagnelldam.com/wp-content/uploads/2024/01/stpats2024.png
ORGANIZER;CN="Bagnell Dam Strip Association":MAILTO:info@bagnelldamstripassociation.com
END:VEVENT
BEGIN:VEVENT
DTSTART;VALUE=DATE:20240323
DTEND;VALUE=DATE:20240324
DTSTAMP:20260421T060754
CREATED:20240319T183436Z
LAST-MODIFIED:20240319T183436Z
UID:2049-1711152000-1711238399@visitbagnelldam.com
SUMMARY:Bridge and Dam Race 10th Anniversary
DESCRIPTION:Bridge and Dam Race Saturday\, March 23https://bridgeanddamrace.com/
URL:https://visitbagnelldam.com/event/bridge-and-dam-race-10th-anniversary/
ATTACH;FMTTYPE=image/png:https://visitbagnelldam.com/wp-content/uploads/2024/03/bridgedamrace2.png
END:VEVENT
END:VCALENDAR