BEGIN:VCALENDAR
VERSION:2.0
PRODID:-//Visit Bagnell Dam - ECPv6.7.1//NONSGML v1.0//EN
CALSCALE:GREGORIAN
METHOD:PUBLISH
X-WR-CALNAME:Visit Bagnell Dam
X-ORIGINAL-URL:https://visitbagnelldam.com
X-WR-CALDESC:Events for Visit Bagnell Dam
REFRESH-INTERVAL;VALUE=DURATION:PT1H
X-Robots-Tag:noindex
X-PUBLISHED-TTL:PT1H
BEGIN:VTIMEZONE
TZID:UTC
BEGIN:STANDARD
TZOFFSETFROM:+0000
TZOFFSETTO:+0000
TZNAME:UTC
DTSTART:20230101T000000
END:STANDARD
END:VTIMEZONE
BEGIN:VEVENT
DTSTART;VALUE=DATE:20230913
DTEND;VALUE=DATE:20230918
DTSTAMP:20260421T092837
CREATED:20230912T175110Z
LAST-MODIFIED:20230912T175110Z
UID:2019-1694563200-1694995199@visitbagnelldam.com
SUMMARY:Bikefest Lake of the Ozarks 2023
DESCRIPTION:SEPTEMBER 13-17\, 202\nLake of the Ozarks has the ULTIMATE BikeFest experience! Motorcycle enthusiasts from all over the United States will be rumbling their way to Lake of the Ozarks for the 17th Annual Lake of the Ozarks BikeFest! This area offers some of the Nation’s most scenic rides around the Lake of the Ozarks and through the rolling Ozark hills with spectacular views. In addition to over three-hundred biker-friendly bars\, restaurants\, hotels and campgrounds. \nConcerts\, great food and much more! 
URL:https://visitbagnelldam.com/event/bikefest-lake-of-the-ozarks-2023/
LOCATION:Entire Lake Area
ATTACH;FMTTYPE=image/png:https://visitbagnelldam.com/wp-content/uploads/2023/09/Bikefest-2023-300RGB-1-1.png
END:VEVENT
END:VCALENDAR