BEGIN:VCALENDAR
VERSION:2.0
PRODID:-//Visit Bagnell Dam - ECPv6.7.1//NONSGML v1.0//EN
CALSCALE:GREGORIAN
METHOD:PUBLISH
X-WR-CALNAME:Visit Bagnell Dam
X-ORIGINAL-URL:https://visitbagnelldam.com
X-WR-CALDESC:Events for Visit Bagnell Dam
REFRESH-INTERVAL;VALUE=DURATION:PT1H
X-Robots-Tag:noindex
X-PUBLISHED-TTL:PT1H
BEGIN:VTIMEZONE
TZID:UTC
BEGIN:STANDARD
TZOFFSETFROM:+0000
TZOFFSETTO:+0000
TZNAME:UTC
DTSTART:20190101T000000
END:STANDARD
END:VTIMEZONE
BEGIN:VEVENT
DTSTART;VALUE=DATE:20190911
DTEND;VALUE=DATE:20190916
DTSTAMP:20260424T022832
CREATED:20181003T191157Z
LAST-MODIFIED:20181003T191157Z
UID:1709-1568160000-1568591999@visitbagnelldam.com
SUMMARY:13th Annual Lake of the Ozarks Bikefest
DESCRIPTION:Visit beautiful Lake of the Ozarks this September for the ultimate BikeFest Event. Events include spectacular scenic rides\, more than 200 biker friendly bars and restaurants\, great parties\, vendors\, and rockin’ concerts at night! Visit Lake of the Ozarks for a chance to win a custom Harley Davidson motorcycle!
URL:https://visitbagnelldam.com/event/13th-annual-lake-of-the-ozarks-bikefest/
LOCATION:Bagnell Dam Strip\, 1395 Bagnell Dam Blvd\, Lake Ozark\, MO\, 65049\, United States
ATTACH;FMTTYPE=image/jpeg:https://visitbagnelldam.com/wp-content/uploads/2018/10/Bikefest-NO-DATES-BW.jpg
END:VEVENT
END:VCALENDAR