BEGIN:VCALENDAR
VERSION:2.0
PRODID:-//Visit Bagnell Dam - ECPv6.7.1//NONSGML v1.0//EN
CALSCALE:GREGORIAN
METHOD:PUBLISH
X-WR-CALNAME:Visit Bagnell Dam
X-ORIGINAL-URL:https://visitbagnelldam.com
X-WR-CALDESC:Events for Visit Bagnell Dam
REFRESH-INTERVAL;VALUE=DURATION:PT1H
X-Robots-Tag:noindex
X-PUBLISHED-TTL:PT1H
BEGIN:VTIMEZONE
TZID:UTC
BEGIN:STANDARD
TZOFFSETFROM:+0000
TZOFFSETTO:+0000
TZNAME:UTC
DTSTART:20190101T000000
END:STANDARD
END:VTIMEZONE
BEGIN:VEVENT
DTSTART;TZID=UTC:20190809T180000
DTEND;TZID=UTC:20190809T230000
DTSTAMP:20260423T234957
CREATED:20190306T215853Z
LAST-MODIFIED:20190306T215853Z
UID:1741-1565373600-1565391600@visitbagnelldam.com
SUMMARY:Hot Summer Nights - Since '69
DESCRIPTION:Hot Summer Nights – Since ’69 \nHot Summer Nights\, a classic vehicle cruise and family night on the Bagnell Dam Strip in Lake Ozark. 6:00 – 11:00 pm (rain or shine). Free admission and participation. All makes and models of cars\, trucks\, and motorcycles will line the Strip and cruise around. This kid friendly event offers games\, activities\, live entertainment and more.
URL:https://visitbagnelldam.com/event/hot-summer-nights-since-69/
LOCATION:Bagnell Dam Strip\, 1395 Bagnell Dam Blvd\, Lake Ozark\, MO\, 65049\, United States
ATTACH;FMTTYPE=image/jpeg:https://visitbagnelldam.com/wp-content/uploads/2019/03/hot-summer-nights-profile-pic.jpg
END:VEVENT
END:VCALENDAR