BEGIN:VCALENDAR
VERSION:2.0
PRODID:-//Visit Bagnell Dam - ECPv6.7.1//NONSGML v1.0//EN
CALSCALE:GREGORIAN
METHOD:PUBLISH
X-WR-CALNAME:Visit Bagnell Dam
X-ORIGINAL-URL:https://visitbagnelldam.com
X-WR-CALDESC:Events for Visit Bagnell Dam
REFRESH-INTERVAL;VALUE=DURATION:PT1H
X-Robots-Tag:noindex
X-PUBLISHED-TTL:PT1H
BEGIN:VTIMEZONE
TZID:UTC
BEGIN:STANDARD
TZOFFSETFROM:+0000
TZOFFSETTO:+0000
TZNAME:UTC
DTSTART:20190101T000000
END:STANDARD
END:VTIMEZONE
BEGIN:VEVENT
DTSTART;TZID=UTC:20190726T080000
DTEND;TZID=UTC:20190727T170000
DTSTAMP:20260424T010444
CREATED:20190627T203114Z
LAST-MODIFIED:20190627T203114Z
UID:1785-1564128000-1564246800@visitbagnelldam.com
SUMMARY:Surf The Dams 2019
DESCRIPTION:Grab your boat\, boards\, cooler\, and crew! It is the Surf The Dams Event you don’t want to miss. \nSurf the Dams June 20 -21. Join MarineMax Wake for two unforgettable days on the water as we surf 93 miles from Bagnell Dam to Truman Dam. Grab your crew\, your gear and your cooler and surf with us the entire way or just part of the way. MarineMax will host a half way party on Thursday night and a party Friday afternoon at the finish line in Warsaw. Prizes will be awarded to the first four boats that cross the finish line\, for the rider with the most miles\, and for the best social media post. Along the way there will be opportunities to ride behind the new 2019 Nautique G23 and demo new boards from Liquid Force and Phase 5. \nCome surf the biggest\, baddest wake event at Lake of the Ozarks! Call 573-365-5382 for more details. Register online today.
URL:https://visitbagnelldam.com/event/surf-the-dams-2019/
LOCATION:Bagnell Dam Strip\, 1395 Bagnell Dam Blvd\, Lake Ozark\, MO\, 65049\, United States
ATTACH;FMTTYPE=image/jpeg:https://visitbagnelldam.com/wp-content/uploads/2019/06/surfthedams.jpg
END:VEVENT
BEGIN:VEVENT
DTSTART;TZID=UTC:20190726T200000
DTEND;TZID=UTC:20190726T235900
DTSTAMP:20260424T010444
CREATED:20190417T155204Z
LAST-MODIFIED:20190417T155239Z
UID:1762-1564171200-1564185540@visitbagnelldam.com
SUMMARY:Trace Adkins with Special Guest Exile LIVE
DESCRIPTION:Trace Adkins with Special Guest Exile LIVE\nJul 26\, 2019\nShawnee Bluff Vineyard\n8 Tolwood Rd\nEldon MO 65026\nPhone: 573-365-1100\n\nGET DIRECTIONS \n\nEmail: info@shawneebluffwinery.com\nWebsite: https://shawneebluffwinery.com/event/trace-adkins-with-special-guest-exile-on-stage-at-the-vineyard-july-26th-2019/\nHours of Operation: 7:00 pm\n\nTowering baritone Trace Adkins has sold more than 11 million albums and charted more than 20 singles in his 25 years in Nashville\, a remarkable run for one of country music’s most easily identifiable stars. The Louisiana native recently released his 12th studio album\, Something’s Going On\, on BBR Music Group / Wheelhouse Records. A three-time GRAMMY Award nominee\, Adkins has won three Academy of Country Music Awards\, including the 2009 Single of the Year Award for “You’re Gonna Miss This” and Vocal Event of the Year with Blake Shelton for “Hillbilly Bone” in 2010. \nAmong rock listeners\, Exile is remembered as the one-hit wonder responsible for 1978’s number one smash “Kiss You All Over”. However\, in the early ’80s\, the Kentucky-bred band reinvented itself as a country outfit — and a hugely successful one at that. Exile is celebrating their 40th Anniversary of “Kiss You All Over”. \n• Doors open at 5pm. • Music on the Patio at 5pm – TBA • Food Vendors – TBA • Exile takes the stage at 7pm. • Trace Adkins on stage at 8pm. • EPIC Fireworks after the show by Brilliant Skies. • Parking is $5 and 50% goes to the local L.A.M.B. (Lake Area Mission Builders) Charity. • This is an outdoor event. Rain or Shine. Tickets are Non-Refundable. \n\nBACK
URL:https://visitbagnelldam.com/event/trace-adkins-with-special-guest-exile-live/
ATTACH;FMTTYPE=image/jpeg:https://visitbagnelldam.com/wp-content/uploads/2019/04/traceadkins.jpg
END:VEVENT
END:VCALENDAR