BEGIN:VCALENDAR
VERSION:2.0
PRODID:-//Visit Bagnell Dam - ECPv6.7.1//NONSGML v1.0//EN
CALSCALE:GREGORIAN
METHOD:PUBLISH
X-ORIGINAL-URL:https://visitbagnelldam.com
X-WR-CALDESC:Events for Visit Bagnell Dam
REFRESH-INTERVAL;VALUE=DURATION:PT1H
X-Robots-Tag:noindex
X-PUBLISHED-TTL:PT1H
BEGIN:VTIMEZONE
TZID:UTC
BEGIN:STANDARD
TZOFFSETFROM:+0000
TZOFFSETTO:+0000
TZNAME:UTC
DTSTART:20190101T000000
END:STANDARD
END:VTIMEZONE
BEGIN:VEVENT
DTSTART;TZID=UTC:20190718T173000
DTEND;TZID=UTC:20190718T210000
DTSTAMP:20260423T233649
CREATED:20190701T162226Z
LAST-MODIFIED:20190701T162226Z
UID:1794-1563471000-1563483600@visitbagnelldam.com
SUMMARY:Bike Night on the Bagnell Dam Strip
DESCRIPTION:Come see us at Bike Nights on the Bagnell Dam Strip! \nEvery 3rd Thursday of the month come down to the Bagnell Dam Strip for Bike Night!
URL:https://visitbagnelldam.com/event/bike-night-on-the-bagnell-dam-strip/
LOCATION:Bagnell Dam Strip\, 1395 Bagnell Dam Blvd\, Lake Ozark\, MO\, 65049\, United States
ATTACH;FMTTYPE=image/gif:https://visitbagnelldam.com/wp-content/uploads/2019/07/bikenightheader.gif
END:VEVENT
END:VCALENDAR