BEGIN:VCALENDAR
VERSION:2.0
PRODID:-//Visit Bagnell Dam - ECPv6.7.1//NONSGML v1.0//EN
CALSCALE:GREGORIAN
METHOD:PUBLISH
X-ORIGINAL-URL:https://visitbagnelldam.com
X-WR-CALDESC:Events for Visit Bagnell Dam
REFRESH-INTERVAL;VALUE=DURATION:PT1H
X-Robots-Tag:noindex
X-PUBLISHED-TTL:PT1H
BEGIN:VTIMEZONE
TZID:UTC
BEGIN:STANDARD
TZOFFSETFROM:+0000
TZOFFSETTO:+0000
TZNAME:UTC
DTSTART:20190101T000000
END:STANDARD
END:VTIMEZONE
BEGIN:VEVENT
DTSTART;TZID=UTC:20190716T183000
DTEND;TZID=UTC:20190716T183000
DTSTAMP:20260423T233648
CREATED:20190701T155649Z
LAST-MODIFIED:20190701T155649Z
UID:1791-1563301800-1563301800@visitbagnelldam.com
SUMMARY:Five Finger Death Punch\, Live in Concert
DESCRIPTION:Five Finger Death Punch with special guests In This Moment and more tba! \nThe first 5 rows (Sections 101-105\, Rows A-E) are Reserved + and also include Pit access – Reserve Seated Event. \nJul 16\, 2019\nOzarks Amphitheater\n2629 N Business Route 5\nCamdenton MO 65020\nPhone: 573-346-0000
URL:https://visitbagnelldam.com/event/five-finger-death-punch-live-in-concert/
ATTACH;FMTTYPE=image/jpeg:https://visitbagnelldam.com/wp-content/uploads/2019/07/ffdp.jpg
END:VEVENT
END:VCALENDAR