BEGIN:VCALENDAR
VERSION:2.0
PRODID:-//Visit Bagnell Dam - ECPv6.7.1//NONSGML v1.0//EN
CALSCALE:GREGORIAN
METHOD:PUBLISH
X-ORIGINAL-URL:https://visitbagnelldam.com
X-WR-CALDESC:Events for Visit Bagnell Dam
REFRESH-INTERVAL;VALUE=DURATION:PT1H
X-Robots-Tag:noindex
X-PUBLISHED-TTL:PT1H
BEGIN:VTIMEZONE
TZID:UTC
BEGIN:STANDARD
TZOFFSETFROM:+0000
TZOFFSETTO:+0000
TZNAME:UTC
DTSTART:20190101T000000
END:STANDARD
END:VTIMEZONE
BEGIN:VEVENT
DTSTART;TZID=UTC:20190627T160000
DTEND;TZID=UTC:20190629T160000
DTSTAMP:20260424T042321
CREATED:20190624T174931Z
LAST-MODIFIED:20190624T174931Z
UID:1780-1561651200-1561824000@visitbagnelldam.com
SUMMARY:12th Annual Support our Troops Poker Run
DESCRIPTION:Support our Troops Poker Run\nSee all the big boats gather at Lake of the Ozarks for this fun filled poker run! All proceeds go to H.E.R.O.E.S. Care. See the website listed below for participating locations and details.\n\nhttp://www.lakecharitypokerrun.com\n\n\n\n\nThursday\, June 27\, 2019\n\n\n\n\n\n\n\n\n\n4:00 PM – 9:00 PM\n\nRegistration Party\n\n\n\n\n\n\n\n\n\nFriday\, June 28\, 2019\n\n\n\n\n\n\n\n\n\n8:00 AM – 10:00 AM\n\nRegistration Cont. / Breakfast\n\n\n\n\n\n\n\n\n\n10:00 AM – 10:30 AM\n\nDrivers Meeting\n\n\n\n\n\n\n\n\n\n10:45 AM – 3:00 PM\n\nPoker Run\n\n\n\n\n\n\n\n\n\n3:00 PM – 5:00 PM\n\nPoker Hand Draw\n\n\n\n\n\n\n\n\n\n4:00 PM – 6:00 PM\n\nDinner\n\n\n\n\n\n\n\n\n\n\n6:30 PM\n\n\nAwards\n\n\n\n\n\n\n\n\n\nSaturday\, June 29\, 2019\n\n\n\n\n\n\n\n\n\n11:00 AM – 4:00 PM\n\nPool Party at Camden at the Lake
URL:https://visitbagnelldam.com/event/12th-annual-support-our-troops-poker-run/
ATTACH;FMTTYPE=image/jpeg:https://visitbagnelldam.com/wp-content/uploads/2019/06/supporttroopspokerrun2019logo.jpg
END:VEVENT
END:VCALENDAR