BEGIN:VCALENDAR
VERSION:2.0
PRODID:-//Visit Bagnell Dam - ECPv6.7.1//NONSGML v1.0//EN
CALSCALE:GREGORIAN
METHOD:PUBLISH
X-ORIGINAL-URL:https://visitbagnelldam.com
X-WR-CALDESC:Events for Visit Bagnell Dam
REFRESH-INTERVAL;VALUE=DURATION:PT1H
X-Robots-Tag:noindex
X-PUBLISHED-TTL:PT1H
BEGIN:VTIMEZONE
TZID:UTC
BEGIN:STANDARD
TZOFFSETFROM:+0000
TZOFFSETTO:+0000
TZNAME:UTC
DTSTART:20190101T000000
END:STANDARD
END:VTIMEZONE
BEGIN:VEVENT
DTSTART;TZID=UTC:20190530T080000
DTEND;TZID=UTC:20190602T170000
DTSTAMP:20260424T022937
CREATED:20190305T181545Z
LAST-MODIFIED:20190305T181545Z
UID:1726-1559203200-1559494800@visitbagnelldam.com
SUMMARY:Lake Race 2019
DESCRIPTION:Lake Race Invitational Power Boat Racing events to be held May 30 – June 2\, 2019 with Race Day on Saturday June 1. Details TBA. \nMay 30\, 2019 – Jun 02\, 2019\nCamden on the Lake\n2325 Bittersweet Rd\nLake Ozark MO 65049\nPhone: 573-365-7118\n\nWebsite: http://www.lakerace.com
URL:https://visitbagnelldam.com/event/lake-race-2019/
ATTACH;FMTTYPE=image/jpeg:https://visitbagnelldam.com/wp-content/uploads/2019/03/LakeRace2019-logo-web.jpg
END:VEVENT
BEGIN:VEVENT
DTSTART;TZID=UTC:20190531T200000
DTEND;TZID=UTC:20190531T235900
DTSTAMP:20260424T022937
CREATED:20190417T154817Z
LAST-MODIFIED:20190417T154907Z
UID:1758-1559332800-1559347140@visitbagnelldam.com
SUMMARY:The Marshall Tucker Band LIVE
DESCRIPTION:The Marshall Tucker Band LIVE\nMay 31\, 2019\nShawnee Bluff Vineyard\n8 Tolwood Road\nEldon MO 65026\nPhone: 573-365-1100\n\n\n\n\n\nGET DIRECTIONS \n\nEmail: info@shawneebluffwinery.com\nWebsite: https://shawneebluffwinery.com/event/the-marshall-tucker-band-live-at-the-vineyard-on-may-31st-2019/\nHours of Operation: 8:00 pm\n\nIn the early fall of 1973\, The Marshall Tucker Band was still a young and hungry group out to prove themselves every time they hit the stage. “We were a bunch of young guys who didn’t know any boundaries\,” says founding member and longtime lead singer Doug Gray. As it turned out\, the collective talents of The Marshall Tucker Band took them very far indeed. \n• All Ages Show. Kids 5 and under are free\, but must purchase a ticket if a seat is required.\n• Parking is $5 and 50% of the proceeds go to L.A.M.B. (Lake Area Mission Builders) Charity.\n• Doors open at 5pm.\n• Music on the Patio at 5pm – Band TBA\n• Food Vendors – TBA\n• The Marshall Tucker Band takes the Stage at 8pm.\n• EPIC Fireworks display after the show by Brilliant Skies.\n• VIP Society Members receive 10% discount\, not a member? Sign up today here. \nTo receive your 10% VIP discount\, please call the Vineyard at 573-365-1100 or to pre-order your tickets\, please email info@shawneebluffwinery.com.
URL:https://visitbagnelldam.com/event/the-marshall-tucker-band-live/
ATTACH;FMTTYPE=image/jpeg:https://visitbagnelldam.com/wp-content/uploads/2019/04/shawnee_bluff_winery_vineyard_logo_RBG.jpg
END:VEVENT
END:VCALENDAR